BEGIN:VCALENDAR
PRODID:-//github.com/rianjs/ical.net//NONSGML ical.net 4.0//EN
VERSION:2.0
BEGIN:VEVENT
DESCRIPTION:The Festival of Adams and Eves: launched 10 years ago among se
 condary school students on the occasion of the Day of Hungarian Culture. 
 Our goal is what we believe in: to teach\, to set an example\, to build c
 ommunity\, to create experiences through theatre!
DTSTAMP:20260423T154410Z
DTSTART;VALUE=DATE:20230121
GEO:47.091867;17.907041
LOCATION:Veszprémi Petőfi Színház\n8200 Veszprém\, Óvári Ferenc út 2
SEQUENCE:0
SUMMARY:A Festival of Adams and Eves
UID:3f4f3fe9-3b9b-4523-bb4d-55eb6e398458
END:VEVENT
END:VCALENDAR
