BEGIN:VCALENDAR
PRODID:-//github.com/rianjs/ical.net//NONSGML ical.net 4.0//EN
VERSION:2.0
BEGIN:VEVENT
DESCRIPTION:Advent lights\, a cavalcade of flavours and aromas\, concerts\
 , gastronomic experiences and handicraft products await visitors to Óváro
 s (Old Town) Square over the four Advent weekends\, on Thursdays\, Friday
 s\, Saturdays and Sundays.
DTEND:20231224T210000Z
DTSTAMP:20260425T193122Z
DTSTART:20231130T160000Z
GEO:47.094249;17.906207
LOCATION:Óváros tér\n8200 Veszprém\, Óváros tér
SEQUENCE:0
SUMMARY:Advent 2023
UID:d44362b1-17f0-4bc8-982a-604a8300da12
END:VEVENT
END:VCALENDAR
