BEGIN:VCALENDAR
PRODID:-//github.com/rianjs/ical.net//NONSGML ical.net 4.0//EN
VERSION:2.0
BEGIN:VEVENT
DESCRIPTION:For lovers of fine art\, architecture or design the Bauhaus is
  a great classic. The drj project CENTURY. idee bauhaus exhibition featur
 es 100 contemporary artists reflecting on the work of the legendary art s
 chool.
DTEND;VALUE=DATE:20230304
DTSTAMP:20260423T154715Z
DTSTART;VALUE=DATE:20230120
GEO:47.096107;17.903515
LOCATION:House of Arts Veszprém - Dubniczay Palace\n8200 Veszprém\, Vár ut
 ca 29
SEQUENCE:0
SUMMARY:ART COLLECTORS' DAY- CENTURY. idee bauhaus.
UID:4f10921f-a8b7-475e-bb11-60a0fdbe97dd
END:VEVENT
END:VCALENDAR
