BEGIN:VCALENDAR
PRODID:-//github.com/rianjs/ical.net//NONSGML ical.net 4.0//EN
VERSION:2.0
BEGIN:VEVENT
DESCRIPTION:For lovers of fine art\, architecture or design the Bauhaus is
  a great classic. The drj project CENTURY. idee bauhaus exhibition featur
 es 100 contemporary artists reflecting on the work of the legendary art s
 chool.
DTEND:20230120T230000Z
DTSTAMP:20260423T144528Z
DTSTART:20230120T150000Z
GEO:47.096316;17.903419
LOCATION:House of Arts Veszprém - Dubniczay Palace\n8200 Veszprém\, Vár ut
 ca 29
SEQUENCE:0
SUMMARY:ART COLLECTORS' DAY - CENTURY. idee bauhaus. Opening Event
UID:918ec44a-668b-4263-b423-9f30bec19afc
END:VEVENT
END:VCALENDAR
