BEGIN:VCALENDAR
PRODID:-//github.com/rianjs/ical.net//NONSGML ical.net 4.0//EN
VERSION:2.0
BEGIN:VEVENT
DESCRIPTION:More than 100 international contemporary artworks from the SCH
 ROTH COLLECTION will travel from Soest in Germany to Veszprém for a speci
 al exhibition. The exhibition is organised in collaboration with the Mode
 rn Art Gallery – László Vass Collection.
DTEND;VALUE=DATE:20230304
DTSTAMP:20260423T142801Z
DTSTART;VALUE=DATE:20230120
GEO:47.096107;17.903515
LOCATION:House of Arts Veszprém - Dubniczay Palace\n8200 Veszprém\, Vár ut
 ca 29
SEQUENCE:0
SUMMARY:ART COLLECTORS’ DAY KULTUR.KONTAKT.KONKRET
UID:5d0a1cdc-e4f7-422a-a3d7-7ba4078dbf42
END:VEVENT
END:VCALENDAR
