BEGIN:VCALENDAR
PRODID:-//github.com/rianjs/ical.net//NONSGML ical.net 4.0//EN
VERSION:2.0
BEGIN:VEVENT
DESCRIPTION:A selection of works by female artists in the László Vass Coll
 ection.
DTEND:20230120T180000Z
DTSTAMP:20260423T144345Z
DTSTART:20230120T170000Z
GEO:47.095130;17.905403
LOCATION:House of Arts Veszprém - Modern Art Gallery – László Vass Collect
 ion\n8200 Veszprém\, Vár utca 3
SEQUENCE:0
SUMMARY:ART COLLECTORS’ DAY- STRUCTURAL HARMONIES Exhibition Opening
UID:49b97d51-34d0-400b-a377-a74c8867929f
END:VEVENT
END:VCALENDAR
