BEGIN:VCALENDAR
PRODID:-//github.com/rianjs/ical.net//NONSGML ical.net 4.0//EN
VERSION:2.0
BEGIN:VEVENT
DESCRIPTION:A selection of works by female artists in the László Vass Coll
 ection\n
DTEND;VALUE=DATE:20230629
DTSTAMP:20260423T142316Z
DTSTART;VALUE=DATE:20230120
GEO:47.095130;17.905403
LOCATION:House of Arts Veszprém - Modern Art Gallery – László Vass Collect
 ion\n8200 Veszprém\, Vár utca 3
SEQUENCE:0
SUMMARY:ART COLLECTORS’ DAY- STRUCTURAL HARMONIES
UID:c4fb6a2c-a5c9-4f03-adfc-ed3397c5541d
END:VEVENT
END:VCALENDAR
