BEGIN:VCALENDAR
PRODID:-//github.com/rianjs/ical.net//NONSGML ical.net 4.0//EN
VERSION:2.0
BEGIN:VEVENT
DESCRIPTION:BALATON + RETRO EXHIBITION – ADVERTISING AND PROPAGANDA FOR TH
 E IDEAL HOLIDAY\nDubniczay Palace / Castle Gallery\, Magtár Gallery\nExhi
 bition opening: 17.01.2023 /Tuesday/ 18.00\nOn view: 18.01.2023 – 05.03.2
 023
DTEND:20230117T230000Z
DTSTAMP:20260423T144114Z
DTSTART:20230117T170000Z
GEO:47.096107;17.903515
LOCATION:House of Arts Veszrpém - Dubniczay Palace\n8200 Veszprém\, Vár ut
 ca 29
SEQUENCE:0
SUMMARY:BALATON + RETRO EXHIBITION OPENING
UID:78b046b7-6c58-4013-85d8-dffbbd5196fa
END:VEVENT
END:VCALENDAR
