BEGIN:VCALENDAR
PRODID:-//github.com/rianjs/ical.net//NONSGML ical.net 4.0//EN
VERSION:2.0
BEGIN:VEVENT
DESCRIPTION:The great Hymn story
DTEND:20230122T230000Z
DTSTAMP:20260423T155104Z
DTSTART:20230122T160000Z
GEO:47.089361;17.908005
LOCATION:Pannon Egyetem Aula\n8200 Veszprém\, Egyetem utca 10
SEQUENCE:0
SUMMARY:Day of Hungarian Culture
UID:5bdb9d09-d574-434c-a9b9-89130ec97967
END:VEVENT
END:VCALENDAR
