BEGIN:VCALENDAR
PRODID:-//github.com/rianjs/ical.net//NONSGML ical.net 4.0//EN
VERSION:2.0
BEGIN:VEVENT
DESCRIPTION:The contemporary international glass art exhibition features a
  selection of recent works by George William Bell (USA\, UK)\, Alexander 
 Kirkeby (DK)\, Gergely Pattantyús (HU) and Balázs Telegdi (HU\, DK). The 
 exhibition is organised in collaboration with the Embassy of the Kingdom 
 of Denmark.
DTEND;VALUE=DATE:20230415
DTSTAMP:20260423T144215Z
DTSTART;VALUE=DATE:20230119
GEO:47.096107;17.903515
LOCATION:House of Arts Veszprém - Dubniczay Palace\n8200 Veszprém\, Vár ut
 ca 29
SEQUENCE:0
SUMMARY:GLASS FOCUS GROUP EXHIBITION
UID:720422af-14a0-4097-bfe5-3b864daa5a88
END:VEVENT
END:VCALENDAR
