BEGIN:VCALENDAR
PRODID:-//github.com/rianjs/ical.net//NONSGML ical.net 4.0//EN
VERSION:2.0
BEGIN:VEVENT
DESCRIPTION:The contemporary international glass art exhibition features a
  selection of recent works by George William Bell (USA\, UK)\, Alexander 
 Kirkeby (DK)\, Gergely Pattantyús (HU) and Balázs Telegdi (HU\, DK). The 
 exhibition is organised in collaboration with the Embassy of the Kingdom 
 of Denmark.
DTEND:20230119T230000Z
DTSTAMP:20260423T142928Z
DTSTART:20230119T170000Z
GEO:47.096107;17.903515
LOCATION:House of Arts Veszprém - Dubniczay Palace\n8200 Veszprém\, Vár ut
 ca 29
SEQUENCE:0
SUMMARY:Glass Focus Group - art exhibition opening
UID:a67265f7-690b-459b-9e0a-24aafa753d3b
END:VEVENT
END:VCALENDAR
