BEGIN:VCALENDAR
PRODID:-//github.com/rianjs/ical.net//NONSGML ical.net 4.0//EN
VERSION:2.0
BEGIN:VEVENT
DESCRIPTION:The Munkácsy Prize-winning artist's exhibition of his new work
 s entitled Another Zodiac presents objects and acoustic and video install
 ations in Veszprém that reflect on the relationship between nature\, mank
 ind\, matter and time.
DTEND:20230118T230000Z
DTSTAMP:20260423T144359Z
DTSTART:20230118T170000Z
GEO:47.095283;17.905218
LOCATION:House of Arts Veszprém - Csikász Gallery\n8200 Veszprém\, Vár utc
 a 17
SEQUENCE:0
SUMMARY:Gyula Várnai: Another Zodiac - Solo Exhibition Opening
UID:d2a5f8b4-0a4c-4837-8e47-a4f891a189dd
END:VEVENT
END:VCALENDAR
