BEGIN:VCALENDAR
PRODID:-//github.com/rianjs/ical.net//NONSGML ical.net 4.0//EN
VERSION:2.0
BEGIN:VEVENT
DESCRIPTION:The exhibition at Vaszary Gallery in Balatonfüred is the first
  time that Imre Bak's series created between 2004 and 2022 are presented\
 , showing the development of his oeuvre.
DTEND:20230122T163000Z
DTSTAMP:20260423T143935Z
DTSTART:20230122T150000Z
GEO:46.954082;17.891280
LOCATION:Vaszary Galéria\n8230 Balatonfüred\, Honvéd utca 2
SEQUENCE:0
SUMMARY:Imre Bak's exhibition opening at Vaszary Gallery
UID:1cf4299d-92ff-49d5-9889-465ad67b161b
END:VEVENT
END:VCALENDAR
