BEGIN:VCALENDAR
PRODID:-//github.com/rianjs/ical.net//NONSGML ical.net 4.0//EN
VERSION:2.0
BEGIN:VEVENT
DESCRIPTION:On the opening weekend of the ECoC\, the Gizella Museum of the
  Archdiocese of Veszprém offers an extraordinary opportunity to get a per
 sonal insight into the moments of the historic investment that have taken
  place and will take place from 2021 to 2025.
DTEND;VALUE=DATE:20230121
DTSTAMP:20260423T154420Z
DTSTART;VALUE=DATE:20230119
GEO:47.096942;17.902520
LOCATION:Gizella Királyné Múzeum\n8200 Veszprém\, Vár utca 35
SEQUENCE:0
SUMMARY:Insight into the WIP'23 - WORK IN PROGRESS exhibition
UID:586c4158-1d95-43c7-a88f-d10f16a6246e
END:VEVENT
END:VCALENDAR
