BEGIN:VCALENDAR
PRODID:-//github.com/rianjs/ical.net//NONSGML ical.net 4.0//EN
VERSION:2.0
BEGIN:VEVENT
DESCRIPTION:Imagine that you're in your favourite café\, having a wonderfu
 l time and you can't help but smile! This is exactly the feeling of life 
 that the Lithuanian orchestra brings to you\, amplifying it with their mu
 sic.
DTEND:20230122T200000Z
DTSTAMP:20260423T142215Z
DTSTART:20230122T190000Z
GEO:47.092912;17.907966
LOCATION:Papírkutya\n8200 Veszprém\, Szabadság tér 9
SEQUENCE:0
SUMMARY:InterUrban - CinAmono concert (LT)
UID:272d5470-f61a-42ab-a930-b8eb41ea0301
END:VEVENT
END:VCALENDAR
