BEGIN:VCALENDAR
PRODID:-//github.com/rianjs/ical.net//NONSGML ical.net 4.0//EN
VERSION:2.0
BEGIN:VEVENT
DESCRIPTION:Where is the history of a city hiding? In personal stories\, i
 n the stones of buildings\, in the layers of collective consciousness.
DTEND:20230124T210000Z
DTSTAMP:20260423T144231Z
DTSTART:20230124T180000Z
GEO:47.088424;17.907401
LOCATION:Pannon Egyetem E épület\, Kamaraterem\n8200 Veszprém\, Egyetem ut
 ca 3
SEQUENCE:0
SUMMARY:InterUrban - Movie screening and meet and greet: Klostés
UID:35ed6a3a-c4c9-495c-899b-c746cab26766
END:VEVENT
END:VCALENDAR
