BEGIN:VCALENDAR
PRODID:-//github.com/rianjs/ical.net//NONSGML ical.net 4.0//EN
VERSION:2.0
BEGIN:VEVENT
DESCRIPTION:People\, cities\, objects\, all photographed in a way that mak
 es up a whole film. The Lithuanian artist captures the moment so masterfu
 lly that you are left wondering for long minutes what the story behind th
 e photo is.
DTEND:20230205T150000Z
DTSTAMP:20260423T144733Z
DTSTART:20230123T080000Z
GEO:47.093828;17.906815
LOCATION:Kunszt\n8200 Veszprém\, Óváros tér 1
SEQUENCE:0
SUMMARY:InterUrban - Photo exhibition Remis Ščerbauskas (LT)
UID:527f181a-2a48-4b1d-b523-33b2be45ff42
END:VEVENT
END:VCALENDAR
