BEGIN:VCALENDAR
PRODID:-//github.com/rianjs/ical.net//NONSGML ical.net 4.0//EN
VERSION:2.0
BEGIN:VEVENT
DESCRIPTION:Kabóca Puppet Theatre is preparing to present the Hungarian fo
 lk tale Csalimese (Tricky Tale).
DTEND:20230122T230000Z
DTSTAMP:20260423T142347Z
DTSTART:20230122T140000Z
GEO:47.092075;17.909137
LOCATION:Hangvilla stúdióterem\n8200 Veszprém\, Brusznyai Árpád utca 2
SEQUENCE:0
SUMMARY:Kabóca Puppet Theatre: Csalimese (Tricky Tale)
UID:5cde3ddf-07cd-4ee3-879d-6b297b874ccd
END:VEVENT
END:VCALENDAR
