BEGIN:VCALENDAR
PRODID:-//github.com/rianjs/ical.net//NONSGML ical.net 4.0//EN
VERSION:2.0
BEGIN:VEVENT
DESCRIPTION:Manu Chao strikes a chord everywhere he plays - the biggest st
 ages of the world or an acoustic gig on the streets of Veszprém.
DTEND:20230909T223000Z
DTSTAMP:20260421T103041Z
DTSTART:20230909T200000Z
GEO:47.097036;17.903566
LOCATION:Castle Stage\n8200 Veszprém\, Vár utca 16
SEQUENCE:0
SUMMARY:SOLD OUT - Manu Chao Acoustic  BALKAN:MOST FESTIVAL
UID:6ef6c8c4-f112-47e4-af78-b07c8e3c4a4c
END:VEVENT
END:VCALENDAR
