BEGIN:VCALENDAR
PRODID:-//github.com/rianjs/ical.net//NONSGML ical.net 4.0//EN
VERSION:2.0
BEGIN:VEVENT
DESCRIPTION:We are organising the first milonga of Veszprém in 2023 at a s
 pecial venue in the framework of the European Capital of Culture program 
 opening ceremony.
DTEND:20230121T163000Z
DTSTAMP:20260423T142232Z
DTSTART:20230121T143000Z
SEQUENCE:0
SUMMARY:Milonga at the Óváros square
UID:553e87b4-0b12-477b-ade9-aa7fd277bf2e
END:VEVENT
END:VCALENDAR
