BEGIN:VCALENDAR
PRODID:-//github.com/rianjs/ical.net//NONSGML ical.net 4.0//EN
VERSION:2.0
BEGIN:VEVENT
DESCRIPTION:Good atmosphere\, friendly conversations\, shared breakfasts\,
  clean\, quality and local ingredients. Shopping bags\, baskets\, perhaps
  canvas bags. Everyone goes to the market for different reasons and in di
 fferent ways\, but once you get a taste of the market\, you'll get hooked
 .
DTEND:20230122T160000Z
DTSTAMP:20260423T155052Z
DTSTART:20230122T080000Z
GEO:47.094249;17.906207
LOCATION:Óváros tér\n8200 Veszprém\, Óváros tér
SEQUENCE:0
SUMMARY:Old Town Market - 22nd January
UID:f3da2744-295b-4f44-a523-329c5613d1d1
END:VEVENT
END:VCALENDAR
