BEGIN:VCALENDAR
PRODID:-//github.com/rianjs/ical.net//NONSGML ical.net 4.0//EN
VERSION:2.0
BEGIN:VEVENT
DESCRIPTION:Insight into the WIP'23 - WORK IN PROGRESS exhibition
DTEND:20230121T150000Z
DTSTAMP:20260423T142528Z
DTSTART:20230121T090000Z
GEO:47.096942;17.902520
LOCATION:Veszprémi Érsekség Gizella Múzeuma\n8200 Veszprém\, Vár utca 35
SEQUENCE:0
SUMMARY:OPENING – Archdiocese of Veszprém
UID:63b54714-c5e9-474e-ac76-63da5d924b79
END:VEVENT
END:VCALENDAR
