BEGIN:VCALENDAR
PRODID:-//github.com/rianjs/ical.net//NONSGML ical.net 4.0//EN
VERSION:2.0
BEGIN:VEVENT
DESCRIPTION:This genre\, which has a history of at least 100 years\, is sp
 ecial in its diverse and multifaceted quality\, with practitioners who ar
 e equally at home in both classical and popular music.
DTEND:20230121T180000Z
DTSTAMP:20260423T142103Z
DTSTART:20230121T130000Z
GEO:47.091571;17.907952
LOCATION:Veszprém\, Megyeház tér\n8200 Veszprém\, Megyeház tér
SEQUENCE:0
SUMMARY:OPENING – Bar Pianists
UID:9cc0c4dc-73da-4f7b-956a-bfa0e870e107
END:VEVENT
END:VCALENDAR
