BEGIN:VCALENDAR
PRODID:-//github.com/rianjs/ical.net//NONSGML ical.net 4.0//EN
VERSION:2.0
BEGIN:VEVENT
DESCRIPTION:The choral movement continues to be the largest worldwide rece
 iver for amateurs wishing to make music. Our city and the region have a l
 ong tradition in this area\, but we also want to set an example for futur
 e generations to show them the rich variety of children's and adult choir
 s in the region.
DTEND:20230121T180000Z
DTSTAMP:20260423T141959Z
DTSTART:20230121T130000Z
GEO:47.094249;17.906207
LOCATION:Városháza előtti tér\n8200 Veszprém\, Óváros tér
SEQUENCE:0
SUMMARY:OPENING – Choirs
UID:e88e7450-ac16-4ba8-bddf-bdbbaecb8cfe
END:VEVENT
END:VCALENDAR
