BEGIN:VCALENDAR
PRODID:-//github.com/rianjs/ical.net//NONSGML ical.net 4.0//EN
VERSION:2.0
BEGIN:VEVENT
DESCRIPTION:Hungary's only family electronic music party series. Because w
 e don't care about age!
DTEND:20230121T120000Z
DTSTAMP:20260423T141935Z
DTSTART:20230121T090000Z
GEO:47.092075;17.909137
LOCATION:Expresszó\n8200 Veszprém\, Brusznyai Árpád utca 2
SEQUENCE:0
SUMMARY:OPENING – Expresszó
UID:5b674eab-dcb8-46bc-84d2-78c5272cb219
END:VEVENT
END:VCALENDAR
