BEGIN:VCALENDAR
PRODID:-//github.com/rianjs/ical.net//NONSGML ical.net 4.0//EN
VERSION:2.0
BEGIN:VEVENT
DESCRIPTION:In addition to folk music from home\, the repertoire of the ba
 nds also includes folk songs and dance music from the Carpathian Basin an
 d other nationalities. Performers are dedicated to the performance\, pres
 ervation and transmission of Hungarian folk music and folk dance to young
 er generations.
DTEND:20230121T180000Z
DTSTAMP:20260423T155027Z
DTSTART:20230121T130000Z
GEO:47.093368;17.913131
LOCATION:Veszprém\, Szent Imre tér\n8200 Veszprém\, Szent Imre tér
SEQUENCE:0
SUMMARY:OPENING - Folk music / folk dance
UID:bf339dad-a0a9-46cd-99dc-ff996d028631
END:VEVENT
END:VCALENDAR
