BEGIN:VCALENDAR
PRODID:-//github.com/rianjs/ical.net//NONSGML ical.net 4.0//EN
VERSION:2.0
BEGIN:VEVENT
DTEND:20230121T210000Z
DTSTAMP:20260423T142639Z
DTSTART:20230121T090000Z
GEO:47.095912;17.904052
LOCATION:Művészetek Háza\n8200 Veszprém\, Vár utca
SEQUENCE:0
SUMMARY:OPENING – House of Arts Veszprém
UID:8c85addb-423f-4812-9987-8f1ae0c9b6b9
END:VEVENT
END:VCALENDAR
