BEGIN:VCALENDAR
PRODID:-//github.com/rianjs/ical.net//NONSGML ical.net 4.0//EN
VERSION:2.0
BEGIN:VEVENT
DESCRIPTION:How can you play various instruments from different cultures a
 t the same time? The Lithuanian musician will show you in his improvisati
 on concert!
DTEND:20230121T211500Z
DTSTAMP:20260423T145542Z
DTSTART:20230121T200000Z
GEO:47.093158;17.909305
LOCATION:EKF Kossuth utcai iroda\n8200 Veszprém\, Kossuth Lajos utca 3
SEQUENCE:0
SUMMARY:OPENING - InterUrban - Daumantas Lukosiunas concert
UID:d6d1c79f-7275-47ce-8769-1b020f900911
END:VEVENT
END:VCALENDAR
