BEGIN:VCALENDAR
PRODID:-//github.com/rianjs/ical.net//NONSGML ical.net 4.0//EN
VERSION:2.0
BEGIN:VEVENT
DESCRIPTION:The Little Moon songwriting evenings in Veszprém provide a sho
 wcase for talented but little-known artists and a meeting point for local
  musicians.
DTSTAMP:20260423T142108Z
DTSTART;VALUE=DATE:20230120
GEO:47.102809;17.909302
LOCATION:Veszprém\nVeszprém
SEQUENCE:0
SUMMARY:OPENING – Little Moon
UID:84496657-c51c-4e88-ad5c-1c1677133167
END:VEVENT
END:VCALENDAR
