BEGIN:VCALENDAR
PRODID:-//github.com/rianjs/ical.net//NONSGML ical.net 4.0//EN
VERSION:2.0
BEGIN:VEVENT
DESCRIPTION:After our opening show at Old Town Square\, the evening will b
 e rounded off with electronic music\, featuring the famous Vienna-based D
 J duo Kruder & Dorfmeister as well as DJs K-lu (Timișoara) and Ad:Mark (E
 lefsina)\, representing the other two European Capitals of Culture 2023.
DTEND:20230122T000000Z
DTSTAMP:20260423T142514Z
DTSTART:20230121T200000Z
GEO:47.094249;17.906207
LOCATION:Óváros tér\n8200 Veszprém\, Óváros tér
SEQUENCE:0
SUMMARY:OPENING – Óváros (Old Town) Square Grand Electronic Event
UID:d392596d-fa86-4fd7-b5ac-03bfedf044fd
END:VEVENT
END:VCALENDAR
