BEGIN:VCALENDAR
PRODID:-//github.com/rianjs/ical.net//NONSGML ical.net 4.0//EN
VERSION:2.0
BEGIN:VEVENT
DESCRIPTION:Papírkutya (Paper Dog) Culture Bistro has been a long-standing
  supporter of live music\, and a particular fan of jazz\, so on this spec
 ial day\, it provides a late breakfast or early lunch with its invited mu
 sicians in an uplifting atmosphere. So let's have breakfast\, lunch and d
 inner to jazz!
DTEND:20230121T180000Z
DTSTAMP:20260423T142357Z
DTSTART:20230121T130000Z
GEO:47.092912;17.907966
LOCATION:Papírkutya\n8200 Veszprém\, Szabadság tér 9
SEQUENCE:0
SUMMARY:OPENING -  Papírkutya (Paper Dog)
UID:41275fc1-4f8f-44fc-8d6e-4545e9fb01b7
END:VEVENT
END:VCALENDAR
