BEGIN:VCALENDAR
PRODID:-//github.com/rianjs/ical.net//NONSGML ical.net 4.0//EN
VERSION:2.0
BEGIN:VEVENT
DTSTAMP:20260423T142700Z
DTSTART;VALUE=DATE:20230120
GEO:47.091867;17.907041
LOCATION:Veszprémi Petőfi Színház\n8200 Veszprém\, Óvári Ferenc út 2
SEQUENCE:0
SUMMARY:OPENING – Petőfi Theatre of Veszprém
UID:ba6e6422-aee4-4757-994a-d5c47211224f
END:VEVENT
END:VCALENDAR
