BEGIN:VCALENDAR
PRODID:-//github.com/rianjs/ical.net//NONSGML ical.net 4.0//EN
VERSION:2.0
BEGIN:VEVENT
DESCRIPTION:The real 90's-00's music freakshow\, all that's risqué!
DTEND:20230122T000000Z
DTSTAMP:20260423T142240Z
DTSTART:20230121T200000Z
GEO:47.093494;17.912382
LOCATION:Posta előtti tér\n8200 Veszprém\, Kossuth Lajos utca 19
SEQUENCE:0
SUMMARY:OPENING – Post Office square / Electronic music event
UID:0bfdc7ef-8ee0-421b-8574-6f3595eb90a6
END:VEVENT
END:VCALENDAR
