BEGIN:VCALENDAR
PRODID:-//github.com/rianjs/ical.net//NONSGML ical.net 4.0//EN
VERSION:2.0
BEGIN:VEVENT
DESCRIPTION:In 2024\, Gyárkert in Veszprém is waiting for you with lots of
  great concerts!
DTEND:20240629T200000Z
DTSTAMP:20260424T162328Z
DTSTART:20240629T150000Z
GEO:47.094820;17.914539
LOCATION:Gyárkert Kultúrpark\n8200 Veszprém\, Jutasi út 3
SEQUENCE:0
SUMMARY:Punnany Massif / Gyárkert
UID:1b63d4c6-94cb-4e6b-bbdd-e4441d77de27
END:VEVENT
END:VCALENDAR
