BEGIN:VCALENDAR
PRODID:-//github.com/rianjs/ical.net//NONSGML ical.net 4.0//EN
VERSION:2.0
BEGIN:VEVENT
DESCRIPTION:Tapolca\, Keszthely\, Siófok\, Várpalota\, Zirc\, Fonyód\, Bal
 atonfüred - the cultural centres of our region have different characteris
 tics and a strong cultural identity. The Regional Show will show you what
  they have to offer.
DTEND;VALUE=DATE:20230811
DTSTAMP:20260420T084639Z
DTSTART;VALUE=DATE:20230807
GEO:46.585193;17.409996
LOCATION:Marcali\nMarcali
SEQUENCE:0
SUMMARY:Regional Show: Marcali - Eurofolk Festival
UID:7d58efb3-b438-4e9e-8580-6c2303f92844
END:VEVENT
END:VCALENDAR
