BEGIN:VCALENDAR
PRODID:-//github.com/rianjs/ical.net//NONSGML ical.net 4.0//EN
VERSION:2.0
BEGIN:VEVENT
DESCRIPTION:Sebastian Schub is one of the UKs most exciting up-and-coming 
 artists.
DTEND;VALUE=DATE:20230118
DTSTAMP:20260423T142517Z
DTSTART;VALUE=DATE:20230116
GEO:47.092912;17.907966
LOCATION:Papírkutya\n8200 Veszprém\, Szabadság tér 9
SEQUENCE:0
SUMMARY:Sebastian Schub (DE/GB) concerts
UID:9de5d8c3-ab10-48d4-998b-3f358a7afa3c
END:VEVENT
END:VCALENDAR
