BEGIN:VCALENDAR
PRODID:-//github.com/rianjs/ical.net//NONSGML ical.net 4.0//EN
VERSION:2.0
BEGIN:VEVENT
DESCRIPTION:The Tegularium reopens with an expanded exhibition with new co
 llection pieces. At the historical permanent exhibition of Veszprém Brick
  we can learn more about the influence of one of our most basic building 
 materials on the history of industry\, art and civilization.
DTEND:20230117T230000Z
DTSTAMP:20260423T142400Z
DTSTART:20230117T160000Z
GEO:47.096107;17.903515
LOCATION:House of Arts Veszrpém - Dubniczay Palace / Tegularium\n8200 Vesz
 prém\, Vár utca 29
SEQUENCE:0
SUMMARY:Tegularium / Brick Collection exhibition opening
UID:ae92d2fa-252f-4865-93f2-08c67d1198f0
END:VEVENT
END:VCALENDAR
