BEGIN:VCALENDAR
PRODID:-//github.com/rianjs/ical.net//NONSGML ical.net 4.0//EN
VERSION:2.0
BEGIN:VEVENT
DESCRIPTION:On the 200th anniversary of the birth of Sándor Petőfi\, Forte
  Company is preparing for the premiere of the comic epic The Hammer of th
 e Village.
DTEND:20230122T203000Z
DTSTAMP:20260423T144321Z
DTSTART:20230122T190000Z
GEO:47.092075;17.909137
LOCATION:Veszprém\, Hangvilla\n8200 Veszprém\, Brusznyai Árpád utca 2
SEQUENCE:0
SUMMARY:The Hammer of the Village
UID:5b589231-165b-4fd1-acb9-84670522c36f
END:VEVENT
END:VCALENDAR
