BEGIN:VCALENDAR
PRODID:-//github.com/rianjs/ical.net//NONSGML ical.net 4.0//EN
VERSION:2.0
BEGIN:VEVENT
DESCRIPTION:Visitors can learn about the wide range of courses offered by 
 the university and take part in information sessions as well as laborator
 y visits.
DTSTAMP:20260423T144359Z
DTSTART;VALUE=DATE:20230117
GEO:47.089361;17.908005
LOCATION:Pannon Egyetem aula ("B" épület)\n8200 Veszprém\, Egyetem utca 10
SEQUENCE:0
SUMMARY:University of Pannonia Open House
UID:00d48faf-afa9-4a5a-8ef5-d1652d72458f
END:VEVENT
END:VCALENDAR
