BEGIN:VCALENDAR
PRODID:-//github.com/rianjs/ical.net//NONSGML ical.net 4.0//EN
VERSION:2.0
BEGIN:VEVENT
DESCRIPTION:By presenting classic footwear\, the SHOE GALLERY gives you an
  insight into the secrets of a dying craft: presenting the tricks of shoe
  making\, the moments of the professional techniques\, how VASS SHOES\, a
  high-quality product appreciated in contemporary fashion is made using t
 raditional technology.
DTEND;VALUE=DATE:20231229
DTSTAMP:20260423T142634Z
DTSTART;VALUE=DATE:20230120
GEO:47.095130;17.905403
LOCATION:House of Arts Veszprém - Modern Art Gallery – László Vass Collect
 ion\n8200 Veszprém\, Vár utca 3
SEQUENCE:0
SUMMARY:VASS SHOE GALLERY – permanent exhibition on shoe history
UID:5451fe1a-19bb-410a-9b8c-e1a992a63153
END:VEVENT
END:VCALENDAR
