BEGIN:VCALENDAR
PRODID:-//github.com/rianjs/ical.net//NONSGML ical.net 4.0//EN
VERSION:2.0
BEGIN:VEVENT
DESCRIPTION:In addition to unmissable international A-list stars\, the fes
 tival will mostly feature more progressive artists of the jazz genre\, co
 mmunicating with borderline genres\, taking into account the diversity of
  jazz.
DTEND:20231119T225900Z
DTSTAMP:20260422T153857Z
DTSTART:20231116T170000Z
SEQUENCE:0
SUMMARY:Veszprém Jazz Festival 2023
UID:6bbac13e-27ee-4435-94b9-2023d77c8175
END:VEVENT
END:VCALENDAR
