BEGIN:VCALENDAR
PRODID:-//github.com/rianjs/ical.net//NONSGML ical.net 4.0//EN
VERSION:2.0
BEGIN:VEVENT
DESCRIPTION:On 22nd January 2023 - the Day of Hungarian Culture - on the 2
 00th birthday of 'Hymn'\, we will celebrate Kölcsey's work with our initi
 ative "VESZPRÉM RECITES TOGETHER"! The management of Petőfi Theatre of Ve
 szprém invites the people of Veszprém to the theatre gardens to recite 'H
 ymn' together.
DTSTAMP:20260423T142124Z
DTSTART;VALUE=DATE:20230121
GEO:47.091867;17.907041
LOCATION:Veszprémi Petőfi Színház kertje\n8200 Veszprém\, Óvári Ferenc út 2
SEQUENCE:0
SUMMARY:Veszprém Recites Together
UID:717790d2-3a10-4e1e-b374-d9ef689ba083
END:VEVENT
END:VCALENDAR
