BEGIN:VCALENDAR
PRODID:-//github.com/rianjs/ical.net//NONSGML ical.net 4.0//EN
VERSION:2.0
BEGIN:VEVENT
DESCRIPTION:A Veszprémi Liszt Ferenc Kórustársaság 12. alkalommal rendezi 
 meg Nemzetközi Romantikus Kóruszenei Találkozóját. A fesztivál idén is tö
 bb külföldi kórus és számos hazai együttes bevonásával történik.
DTEND;VALUE=DATE:20231014
DTSTAMP:20260422T012438Z
DTSTART;VALUE=DATE:20231009
GEO:47.102809;17.909302
LOCATION:Belváros\nVeszprém
SEQUENCE:0
SUMMARY:12. Nemzetközi Romantikus Kórusfesztivál
UID:2ac62abc-05dc-4113-b552-863c1d57b4af
END:VEVENT
END:VCALENDAR
