BEGIN:VCALENDAR
PRODID:-//github.com/rianjs/ical.net//NONSGML ical.net 4.0//EN
VERSION:2.0
BEGIN:VEVENT
DESCRIPTION:A Klassz a pARTon! Fesztivál művészeti vezetőjeként Érdi Tamás
  évről évre világhírű zenészeket invitál a Balaton partjára\, ahol esténk
 ént magával ragadó koncertjeiket élvezheti a minőségi zenére vágyó közöns
 ég.
DTEND:20230715T190000Z
DTSTAMP:20260419T144430Z
DTSTART:20230715T170000Z
GEO:47.032185;18.110904
LOCATION:Széchenyi park\n8174 Balatonkenese
SEQUENCE:0
SUMMARY:A BDZ A LA CARTE KAMARAEGYÜTTES koncertje
UID:af830ecf-90f7-48b3-88d9-8759c1bf5a37
END:VEVENT
END:VCALENDAR
