BEGIN:VCALENDAR
PRODID:-//github.com/rianjs/ical.net//NONSGML ical.net 4.0//EN
VERSION:2.0
BEGIN:VEVENT
DESCRIPTION:Színpadi produkció a Calypso Kórus\, a Baglas Néptánc Együttes
  és a Cantiléna gyermekkórus közreműködésével.
DTEND:20231217T200000Z
DTSTAMP:20260425T023333Z
DTSTART:20231217T180000Z
GEO:46.706606;17.319483
LOCATION:Könyvtári\, Információs és Közösségi Hely\n8649 Balatonberény\, K
 ossuth Lajos utca 1
SEQUENCE:0
SUMMARY:A betlehemi csillag üzenete c. profán kantáta
UID:5a196664-50aa-4b5d-adf0-42a153a3abbe
END:VEVENT
END:VCALENDAR
