BEGIN:VCALENDAR
PRODID:-//github.com/rianjs/ical.net//NONSGML ical.net 4.0//EN
VERSION:2.0
BEGIN:VEVENT
DESCRIPTION:Az alkohol: meddig életstílus és mikortól függőség? Karafiáth 
 Orsolya beszélgetése Kiss Anna klinikai szakpszichológussal és Figula Mih
 ály borásszal.
DTEND:20231027T161500Z
DTSTAMP:20260421T093244Z
DTSTART:20231027T150000Z
GEO:47.092912;17.907966
LOCATION:Papírkutya Kultúrbisztró\n8200 Veszprém\, Szabadság tér 9
SEQUENCE:0
SUMMARY:A bor filozófiája? - Madách 200 Gondolat Fesztivál
UID:035f2dd8-4582-4228-9f3c-731f15c660b6
END:VEVENT
END:VCALENDAR
