BEGIN:VCALENDAR
PRODID:-//github.com/rianjs/ical.net//NONSGML ical.net 4.0//EN
VERSION:2.0
BEGIN:VEVENT
DESCRIPTION:Amerikai\, angol nyelvű\, magyar feliratos filmdráma | Rendező
 : Brady Corbet | Szereplők: Adrien Brody\, Felicity Jones\, Guy Pearce | 
 UIP-Duna Film | 215 perc | (18) | Teljes árú jegy: 2 550 Ft | Kedvezménye
 s jegy: 2 150 Ft (6 éves korig\, diák\, nyugdíjas)
DTEND:20250220T215500Z
DTSTAMP:20260420T084425Z
DTSTART:20250220T181500Z
GEO:47.095283;17.905218
LOCATION:FOTON Audiovizuális Centrum\n8200 Veszprém\, Vár utca 17
SEQUENCE:0
SUMMARY:A BRUTALISTA - THE BRUTALIST - FOTON - 02.20.
UID:0a5ca920-55c9-4ab6-8968-d3646a56d5f2
END:VEVENT
END:VCALENDAR
