BEGIN:VCALENDAR
PRODID:-//github.com/rianjs/ical.net//NONSGML ical.net 4.0//EN
VERSION:2.0
BEGIN:VEVENT
DESCRIPTION:Beszélgetés Jaco van Dormael filmrendezővel
DTEND:20231029T180000Z
DTSTAMP:20260421T092827Z
DTSTART:20231029T170000Z
GEO:47.095283;17.905218
LOCATION:FOTON Audiovizuális Centrum\n8200 Veszprém\, Vár utca 17
SEQUENCE:0
SUMMARY:A jövő: hoz vagy visz? - Madách 200 Gondolat Fesztivál
UID:2df9ae91-c99f-4663-a955-b8c22d60bda9
END:VEVENT
END:VCALENDAR
