BEGIN:VCALENDAR
PRODID:-//github.com/rianjs/ical.net//NONSGML ical.net 4.0//EN
VERSION:2.0
BEGIN:VEVENT
DESCRIPTION:Mexikói-amerikai\, angol-spanyol nyelvű\, magyar feliratos fil
 mdráma | Rendező: Alonso Ruizpalacios | Szereplők: Rooney Mara\, Raúl Bri
 ones | Teljes árú jegy: 2 550 Ft | Kedvezményes jegy: 2 150 Ft (6 éves ko
 rig\, diák\, nyugdíjas\; érvényes kedvezményre jogosító igazolvány bemuta
 tása esetén)
DTEND:20250315T185500Z
DTSTAMP:20260421T082151Z
DTSTART:20250315T163000Z
GEO:47.095283;17.905218
LOCATION:FOTON Audiovizuális Centrum\n8200 Veszprém\, Vár utca 17
SEQUENCE:0
SUMMARY:A konyha - La Cocina – FOTON - 03.15
UID:fa208b46-ce1d-4fe3-b2fe-1a6b21c67804
END:VEVENT
END:VCALENDAR
