BEGIN:VCALENDAR
PRODID:-//github.com/rianjs/ical.net//NONSGML ical.net 4.0//EN
VERSION:2.0
BEGIN:VEVENT
DESCRIPTION:Interaktív installáció az összes létező képről. Somlai-Fischer
  Ádám és Weiner Zsuzsa installációja
DTEND;VALUE=DATE:20231028
DTSTAMP:20260421T102912Z
DTSTART;VALUE=DATE:20231024
GEO:47.092075;17.909137
LOCATION:Hangvilla - Kamaraterem\n8200 Veszprém\, Brusznyai Árpád utca 2
SEQUENCE:0
SUMMARY:A mindent látó gép - Madách 200 Gondolat Fesztivál
UID:54d36864-91d6-4979-9d1c-cac150f802f3
END:VEVENT
END:VCALENDAR
